BEGIN:VCALENDAR
VERSION:2.0
PRODID:-//wp-events-plugin.com//7.2.3.1//EN
TZID:Africa/Accra
X-WR-TIMEZONE:Africa/Accra
BEGIN:VEVENT
UID:26@biblesociety-ghana.org
DTSTART;TZID=Africa/Accra:20240821T072000
DTEND;TZID=Africa/Accra:20240821T130000
DTSTAMP:20241126T060820Z
URL:http://biblesociety-ghana.org/events/lunch-time-prayer/
SUMMARY:Lunch Time Prayer
DESCRIPTION:Join us for our Virtual Lunch Time Prayer hosted by the Bible S
 ociety of Ghana\nThis monthly event takes place every third Wednesday\, wi
 th our next session on June 19th\, 2024\, from 12pm to 1pm. The theme for 
 this session is "I Am the Lord Your God."\n\nConnect with us on Zoom using
  the Meeting ID: 830 5653 6893 and Password: BSG.\n\nLet’s come together
  in prayer and fellowship\, inspired by Ephesians 3:20-21. Don’t miss th
 is opportunity to be part of a spiritual community that uplifts and suppor
 ts each other. See you there!\n\n\n\n&nbsp\;
ATTACH;FMTTYPE=image/jpeg:http://biblesociety-ghana.org/wp-content/uploads
 /2018/03/Prayer.jpeg
END:VEVENT
BEGIN:VTIMEZONE
TZID:Africa/Accra
X-LIC-LOCATION:Africa/Accra
BEGIN:STANDARD
DTSTART:20230822T072000
TZOFFSETFROM:+0000
TZOFFSETTO:+0000
TZNAME:GMT
END:STANDARD
END:VTIMEZONE
END:VCALENDAR